BEGIN:VCALENDAR
VERSION:2.0
PRODID:-//Prairie Flower Retreats - ECPv6.15.20//NONSGML v1.0//EN
CALSCALE:GREGORIAN
METHOD:PUBLISH
X-WR-CALNAME:Prairie Flower Retreats
X-ORIGINAL-URL:https://prairieflowerretreats.com
X-WR-CALDESC:Events for Prairie Flower Retreats
REFRESH-INTERVAL;VALUE=DURATION:PT1H
X-Robots-Tag:noindex
X-PUBLISHED-TTL:PT1H
BEGIN:VTIMEZONE
TZID:UTC
BEGIN:STANDARD
TZOFFSETFROM:+0000
TZOFFSETTO:+0000
TZNAME:UTC
DTSTART:20240101T000000
END:STANDARD
END:VTIMEZONE
BEGIN:VEVENT
DTSTART;VALUE=DATE:20250928
DTEND;VALUE=DATE:20251013
DTSTAMP:20260423T074513
CREATED:20250326T140410Z
LAST-MODIFIED:20250326T140410Z
UID:3489-1759017600-1760313599@prairieflowerretreats.com
SUMMARY:Closed for Vacation
DESCRIPTION:
URL:https://prairieflowerretreats.com/event/closed-for-vacation/
END:VEVENT
END:VCALENDAR