BEGIN:VCALENDAR
VERSION:2.0
PRODID:-//Prairie Flower Retreats - ECPv6.15.20//NONSGML v1.0//EN
CALSCALE:GREGORIAN
METHOD:PUBLISH
X-ORIGINAL-URL:https://prairieflowerretreats.com
X-WR-CALDESC:Events for Prairie Flower Retreats
REFRESH-INTERVAL;VALUE=DURATION:PT1H
X-Robots-Tag:noindex
X-PUBLISHED-TTL:PT1H
BEGIN:VTIMEZONE
TZID:UTC
BEGIN:STANDARD
TZOFFSETFROM:+0000
TZOFFSETTO:+0000
TZNAME:UTC
DTSTART:20240101T000000
END:STANDARD
END:VTIMEZONE
BEGIN:VEVENT
DTSTART;VALUE=DATE:20250916
DTEND;VALUE=DATE:20250919
DTSTAMP:20260423T075059
CREATED:20250401T160209Z
LAST-MODIFIED:20250402T162418Z
UID:3542-1757980800-1758239999@prairieflowerretreats.com
SUMMARY:Sashiko Stitching Denim Jacket Class
DESCRIPTION:A fun 3-day\, 2 night retreat with a Sashiko Denim Jacket class taught by Pat Dunbar\, an accomplished quilter specializing in art quilts. Her Sashiko stitching talent on wearables is unique and exquisite! \n			\n			\n				\n				\n				\n				\n			\n				\n				\n				\n				\n				\n				\n				\n				\n				\n				\n				\n			\n			\n				\n				\n				\n				\n				\n				\n				\n				\n				\n				\n			\n			\n				\n				\n				\n				\n				\n				\n				\n				\n				\n				\n			\n			\n				\n				\n				\n				\n			\n				\n				\n				\n				\n				\n				\n				Call today! 816-457-0485
URL:https://prairieflowerretreats.com/event/sashiko-stitching-denim-jacket-class/
END:VEVENT
END:VCALENDAR